BEGIN:VCALENDAR
VERSION:2.0
PRODID:-//Beatboxx.at Market - ECPv6.15.11//NONSGML v1.0//EN
CALSCALE:GREGORIAN
METHOD:PUBLISH
X-ORIGINAL-URL:https://market.beatboxx.at
X-WR-CALDESC:Veranstaltungen für Beatboxx.at Market
REFRESH-INTERVAL;VALUE=DURATION:PT1H
X-Robots-Tag:noindex
X-PUBLISHED-TTL:PT1H
BEGIN:VTIMEZONE
TZID:Europe/Berlin
BEGIN:DAYLIGHT
TZOFFSETFROM:+0100
TZOFFSETTO:+0200
TZNAME:CEST
DTSTART:20240331T010000
END:DAYLIGHT
BEGIN:STANDARD
TZOFFSETFROM:+0200
TZOFFSETTO:+0100
TZNAME:CET
DTSTART:20241027T010000
END:STANDARD
BEGIN:DAYLIGHT
TZOFFSETFROM:+0100
TZOFFSETTO:+0200
TZNAME:CEST
DTSTART:20250330T010000
END:DAYLIGHT
BEGIN:STANDARD
TZOFFSETFROM:+0200
TZOFFSETTO:+0100
TZNAME:CET
DTSTART:20251026T010000
END:STANDARD
BEGIN:DAYLIGHT
TZOFFSETFROM:+0100
TZOFFSETTO:+0200
TZNAME:CEST
DTSTART:20260329T010000
END:DAYLIGHT
BEGIN:STANDARD
TZOFFSETFROM:+0200
TZOFFSETTO:+0100
TZNAME:CET
DTSTART:20261025T010000
END:STANDARD
END:VTIMEZONE
BEGIN:VEVENT
DTSTART;TZID=Europe/Berlin:20250623T100000
DTEND;TZID=Europe/Berlin:20250626T180000
DTSTAMP:20260424T133309
CREATED:20250514T140227Z
LAST-MODIFIED:20250617T185643Z
UID:10000277-1750672800-1750960800@market.beatboxx.at
SUMMARY:Recording Session - Sommersemester 2025
DESCRIPTION:Am Ende des Sommersemesters verwandelt sich unser Unterrichtsraum in der Tempelgasse in ein Studio. Wir nehmen mit dir einen oder mehrere Songs oder ein Schlagzeugsolo auf – seit Jänner 2025 wieder mit vollem Fokus auf Audiorecording. Idealerweise bist du für diesen Termin sehr gut vorbereitet. Nimm dir dazu auch gerne 1-2 Monate Zeit zur Vorbereitung! \n\n\n\nFür Schüler*innen der Beatboxx am Standort Tempelgasse findet die Recording Session voraussichtlich zur gewohnten Unterrichtszeit statt. Unser Aufnahmeleiter wird sich bei dir melden\, um mit dir den konkreten Termin zu vereinbaren. Bring bitte deine Tracks (Originalsong oder Playback) auf einem USB-Stick zur Session mit!  \n\n\n\nZur Planung benötigen wir Zeit\, daher ist der Anmeldeschluss am 18.06.25! \n\n\n\nTonproduktion – 45min Recording Session + 45min Audiobearbeitung \n\n\n\nViel Spaß & viel Erfolg!
URL:https://market.beatboxx.at/event/recording-session-sommersemester-2025/
CATEGORIES:Recording Session,Workshop
ATTACH;FMTTYPE=image/jpeg:https://market.beatboxx.at/wp-content/uploads/sites/2/2023/09/BOX.REC_.2020_540.jpg
END:VEVENT
END:VCALENDAR