BEGIN:VCALENDAR
VERSION:2.0
PRODID:-//Beatboxx.at Market - ECPv6.15.11//NONSGML v1.0//EN
CALSCALE:GREGORIAN
METHOD:PUBLISH
X-WR-CALNAME:Beatboxx.at Market
X-ORIGINAL-URL:https://market.beatboxx.at
X-WR-CALDESC:Veranstaltungen für Beatboxx.at Market
REFRESH-INTERVAL;VALUE=DURATION:PT1H
X-Robots-Tag:noindex
X-PUBLISHED-TTL:PT1H
BEGIN:VTIMEZONE
TZID:Europe/Berlin
BEGIN:DAYLIGHT
TZOFFSETFROM:+0100
TZOFFSETTO:+0200
TZNAME:CEST
DTSTART:20240331T010000
END:DAYLIGHT
BEGIN:STANDARD
TZOFFSETFROM:+0200
TZOFFSETTO:+0100
TZNAME:CET
DTSTART:20241027T010000
END:STANDARD
BEGIN:DAYLIGHT
TZOFFSETFROM:+0100
TZOFFSETTO:+0200
TZNAME:CEST
DTSTART:20250330T010000
END:DAYLIGHT
BEGIN:STANDARD
TZOFFSETFROM:+0200
TZOFFSETTO:+0100
TZNAME:CET
DTSTART:20251026T010000
END:STANDARD
BEGIN:DAYLIGHT
TZOFFSETFROM:+0100
TZOFFSETTO:+0200
TZNAME:CEST
DTSTART:20260329T010000
END:DAYLIGHT
BEGIN:STANDARD
TZOFFSETFROM:+0200
TZOFFSETTO:+0100
TZNAME:CET
DTSTART:20261025T010000
END:STANDARD
END:VTIMEZONE
BEGIN:VEVENT
DTSTART;TZID=Europe/Berlin:20250911T170000
DTEND;TZID=Europe/Berlin:20250911T200000
DTSTAMP:20260420T212402
CREATED:20250821T162901Z
LAST-MODIFIED:20250825T162320Z
UID:10000281-1757610000-1757620800@market.beatboxx.at
SUMMARY:Pre-Rock-Session 11.09.25 (feat. Kutscher’s Blues Band)
DESCRIPTION:Im Lokal „Tunnel“ Vienna Live finden mehrere Rock-Jamsessions im Jahr statt\, wo Musiker jeden Levels (Einsteiger – Fortgeschrittene) zwanglos gemeinsam spielen können. Diese Rock-Sessions sind sehr einsteigerfreundlich. Es gibt vor Ort kleine Sheets (Akkorde etc.) und man sich in einer Songliste eintragen kann. Session-Einsteiger werden von „Kutscher’s Blues Band“ durch die Nummern geführt.  \n\n\n\nInteressierte\, die wenig bis keine Erfahrung mit Sessions haben\, können sich im Rahmen der Pre-Rock-Session für die Bühnensituation vorbereiten und somit Hemmschwellen abbauen. Geleitet werden diese ebenfalls von „Kutscher’s Blues Band“.  \n\n\n\nDie Teilnahme ist kostenlos\, für die Planung benötigen wir allerdings deine Anmeldung. Anmeldeschluss ist am 10.09.25 um 18:00.  \n\n\n\nHier noch ein kleiner Auszug aus der bereits vorhandenen Songliste \n\n\n\n\nThe Joker\n\n\n\nLittle Wing \n\n\n\nWicked Game \n\n\n\nSeven Nation Army\n\n\n\nKnockin on Heavens Door\n\n\n\nCome Together\n\n\n\nLonely Boy (von den Black Keys)\n\n\n\nCocaine\n\n\n\nFly Away \n\n\n\nHey Joe\n\n\n\nLearn to Fly\n\n\n\nWalking by Myself\n\n\n\nGoing Down\n\n\n\nWild Thing \n\n\n\nFooled Around and Fell in Love (von den Winery Dogs)\n\n\n\nFree Falling\n\n\n\nSunshine Of Your Love\n\n\n\nRed House \n\n\n\nZombie \n\n\n\nCreep\n\n\n\nBasket Case\n\n\n\n…
URL:https://market.beatboxx.at/event/pre-rock-jamsession-11-09-25-feat-kutschers-blues-band/
END:VEVENT
END:VCALENDAR