BEGIN:VCALENDAR
VERSION:2.0
PRODID:-//Beatboxx.at Market - ECPv6.15.11//NONSGML v1.0//EN
CALSCALE:GREGORIAN
METHOD:PUBLISH
X-ORIGINAL-URL:https://market.beatboxx.at
X-WR-CALDESC:Veranstaltungen für Beatboxx.at Market
REFRESH-INTERVAL;VALUE=DURATION:PT1H
X-Robots-Tag:noindex
X-PUBLISHED-TTL:PT1H
BEGIN:VTIMEZONE
TZID:Europe/Berlin
BEGIN:DAYLIGHT
TZOFFSETFROM:+0100
TZOFFSETTO:+0200
TZNAME:CEST
DTSTART:20240331T010000
END:DAYLIGHT
BEGIN:STANDARD
TZOFFSETFROM:+0200
TZOFFSETTO:+0100
TZNAME:CET
DTSTART:20241027T010000
END:STANDARD
BEGIN:DAYLIGHT
TZOFFSETFROM:+0100
TZOFFSETTO:+0200
TZNAME:CEST
DTSTART:20250330T010000
END:DAYLIGHT
BEGIN:STANDARD
TZOFFSETFROM:+0200
TZOFFSETTO:+0100
TZNAME:CET
DTSTART:20251026T010000
END:STANDARD
BEGIN:DAYLIGHT
TZOFFSETFROM:+0100
TZOFFSETTO:+0200
TZNAME:CEST
DTSTART:20260329T010000
END:DAYLIGHT
BEGIN:STANDARD
TZOFFSETFROM:+0200
TZOFFSETTO:+0100
TZNAME:CET
DTSTART:20261025T010000
END:STANDARD
END:VTIMEZONE
BEGIN:VEVENT
DTSTART;TZID=Europe/Berlin:20250927T103000
DTEND;TZID=Europe/Berlin:20250927T133000
DTSTAMP:20260420T212745
CREATED:20250227T124436Z
LAST-MODIFIED:20250227T124438Z
UID:10000259-1758969000-1758979800@market.beatboxx.at
SUMMARY:No Fear From The Gear!
DESCRIPTION:Hard Testing Equipment Workshop! \n\n\n\nSchlagzeug spielen ohne die Nachbarn zu nerven\, Geht das? JA! \n\n\n\nZuhause üben ist immer noch die effektivste Art und Weise seine Skills zu verbessern. Practice Pad oder E-Drum waren dazu bislang die Möglichkeiten zwischen denen wir wählen konnten. Beides bedeutet für viele aber nur eine Annäherung an das geliebte akustische Schlagzeug. Beatboxx Mitglieder können auf gemeinsam genutzte Musikzimmer/Proberäume zugreifen und so Wegzeiten verringern. Mehr Zeit am Set als am Weg also.  \n\n\n\nIn den letzten Jahren sind mit Low Volume Becken und Meshheads für das akustische Schlagzeug nun weitere Optionen auf den Markt gekommen. Wir wollen in diesem Workshop verschiedenen Anbieter vergleichen bzw. Vor- und Nachteile kennenlernen. Folgende Marken werden wir im Workshop vergleichen und testen: Zildjian\, Evans\, Remo\, Millenium\, rtom\, DW\, Sabian. \n\n\n\nDas benutzte Equipment wurde vom Verein Beatboxx angekauft und stellt eine Auswahl der Möglichkeiten dar. Es bestehen keine Kooperationen mit den Herstellern.  \n\n\n\nBitte beachtet den Anmeldeschluss eine Woche vor Termin!
URL:https://market.beatboxx.at/event/no-fear-from-the-gear-3/
LOCATION:Beatboxx 1100 Wien – Verein z.F.v. Musik\, Herzgasse 9/5 Hofgebäude OG\, Wien\, 1100\, Österreich
CATEGORIES:Events,Workshop
ATTACH;FMTTYPE=image/jpeg:https://market.beatboxx.at/wp-content/uploads/sites/2/2025/01/Beatboxx-LowVolume-Workshop.jpg
ORGANIZER;CN="beatboxx %E2%80%93 Verein zur F%C3%B6rderung von Musik":MAILTO:info@beatboxx.at
END:VEVENT
END:VCALENDAR