BEGIN:VCALENDAR
VERSION:2.0
PRODID:-//Beatboxx.at Market - ECPv6.15.11//NONSGML v1.0//EN
CALSCALE:GREGORIAN
METHOD:PUBLISH
X-ORIGINAL-URL:https://market.beatboxx.at
X-WR-CALDESC:Veranstaltungen für Beatboxx.at Market
REFRESH-INTERVAL;VALUE=DURATION:PT1H
X-Robots-Tag:noindex
X-PUBLISHED-TTL:PT1H
BEGIN:VTIMEZONE
TZID:Europe/Berlin
BEGIN:DAYLIGHT
TZOFFSETFROM:+0100
TZOFFSETTO:+0200
TZNAME:CEST
DTSTART:20240331T010000
END:DAYLIGHT
BEGIN:STANDARD
TZOFFSETFROM:+0200
TZOFFSETTO:+0100
TZNAME:CET
DTSTART:20241027T010000
END:STANDARD
BEGIN:DAYLIGHT
TZOFFSETFROM:+0100
TZOFFSETTO:+0200
TZNAME:CEST
DTSTART:20250330T010000
END:DAYLIGHT
BEGIN:STANDARD
TZOFFSETFROM:+0200
TZOFFSETTO:+0100
TZNAME:CET
DTSTART:20251026T010000
END:STANDARD
BEGIN:DAYLIGHT
TZOFFSETFROM:+0100
TZOFFSETTO:+0200
TZNAME:CEST
DTSTART:20260329T010000
END:DAYLIGHT
BEGIN:STANDARD
TZOFFSETFROM:+0200
TZOFFSETTO:+0100
TZNAME:CET
DTSTART:20261025T010000
END:STANDARD
END:VTIMEZONE
BEGIN:VEVENT
DTSTART;TZID=Europe/Berlin:20250510T100000
DTEND;TZID=Europe/Berlin:20250510T120000
DTSTAMP:20260424T133329
CREATED:20250328T164729Z
LAST-MODIFIED:20250505T142957Z
UID:10000271-1746871200-1746878400@market.beatboxx.at
SUMMARY:Gruppenworkshop ergänzend zum Einzelunterricht | 10.05.25
DESCRIPTION:GEMEINSAM STATT EINSAM ÜBEN! \n\n\n\nIn unseren Gruppenterminen zeigen wir Euch\, was wir mit zwei Stöcken und einem Practice Pad alles anstellen! Jeder Termin wird von einem anderen Schlagzeuglehrer absolviert. So bekommt ihr zeitgleich auch einen Überblick über unsere Beatboxx Lehrer Crew. \n\n\n\nKids 9-12J & Teenager ab 13J 60min – 10:00 -11:00 | Teilnehmer ab 18J 60min – 11:00-12:00 \n\n\n\nMindestteilnehmerzahl: 3 Personen pro Gruppe – Anmeldung bis 07.05.25 (20:00) möglich!  \n\n\n\nKostenbeiträge: 30\,- € externe Teilnehmer | 15\,- € Beatboxx Mitglieder | kostenlos für Schüler der Beatboxx\, keine Rückerstattung möglich \n\n\n\nViel Spaß & viel Erfolg!
URL:https://market.beatboxx.at/event/gruppenworkshop-ergaenzend-zum-einzelunterricht-10-05-25/
LOCATION:Beatboxx 1100 Wien – Verein z.F.v. Musik\, Herzgasse 9/5 Hofgebäude OG\, Wien\, 1100\, Österreich
CATEGORIES:Events,Gruppentermine für SchlagzeugerInnen,Workshop
ATTACH;FMTTYPE=image/jpeg:https://market.beatboxx.at/wp-content/uploads/sites/2/2023/10/70563563_2414434661936067_8481161865169207296_o.jpg
END:VEVENT
BEGIN:VEVENT
DTSTART;TZID=Europe/Berlin:20250516T183000
DTEND;TZID=Europe/Berlin:20250516T200000
DTSTAMP:20260424T133329
CREATED:20250328T170135Z
LAST-MODIFIED:20250328T170137Z
UID:10000272-1747420200-1747425600@market.beatboxx.at
SUMMARY:Drum Tuning | 16.05.25
DESCRIPTION:Schlagzeug stimmen in 5min! Mehr Zeit solltest du nicht brauchen\, um deinen Sound für deine Übungssession zu finden. Für gemeinsam genutzte Schlagzeuge ist diese Fähigkeit besonders wichtig und hilfreich. Übung macht auch hier den Meister – Je öfter du stimmst\, desto schneller wirst du.  \n\n\n\nMindestteilnehmerzahl: 3 Personen  \n\n\n\nKostenbeiträge: 25\,- € externe Teilnehmer | 15\,- € Beatboxx Mitglieder | 0\,- € Beatboxx AYCB Mitglieder\, keine Rückerstattung möglich  \n\n\n\nViel Spaß & viel Erfolg!
URL:https://market.beatboxx.at/event/drum-tuning-16-05-25/
LOCATION:Beatboxx 1050 Wien – Verein z.F.v. Musik\, Margaretenstrasse 106\, Wien\, 1050\, Österreich
CATEGORIES:Boxxenstopp,Drum Tuning,Workshop
ATTACH;FMTTYPE=image/png:https://market.beatboxx.at/wp-content/uploads/sites/2/2023/08/Yamaha-Tour-Custom-Candy-Apple-22-10-12-16.png
END:VEVENT
BEGIN:VEVENT
DTSTART;TZID=Europe/Berlin:20250524T100000
DTEND;TZID=Europe/Berlin:20250524T130000
DTSTAMP:20260424T133329
CREATED:20250313T212748Z
LAST-MODIFIED:20250313T212750Z
UID:10000265-1748080800-1748091600@market.beatboxx.at
SUMMARY:DRUMStag | Eltern-Kind Aktion
DESCRIPTION:An unseren DRUMStagen bieten wir dir und deinem Kind Raum fürs Schlagzeug spielen. Auf zwei akustischen Schlagzeugen kannst du dich mit deinem Kind ausprobieren. Kommt und entdeckt eure neue Leidenschaft. \n\n\n\nOder du spielst schon fleißig E-Drum zuhause und möchtest 1x pro Monat ein akustisches Schlagzeug nutzen? Auch dann bist du hier richtig!  \n\n\n\nDie Beatboxx ist ein gemeinschaftlich genutztes Musikzimmer. We like drumming! \n\n\n\nZeitraum: 10-13h | Dauer: 30 Minuten | Kosten: 8\,- €  pro 30min | Angebot für Kinder von 4 bis 12 Jahre
URL:https://market.beatboxx.at/event/drumstag-eltern-kind-aktion-2/
CATEGORIES:Events
ATTACH;FMTTYPE=image/jpeg:https://market.beatboxx.at/wp-content/uploads/sites/2/2025/03/DRUMStag2025_beatboxx.jpg
ORGANIZER;CN="beatboxx %E2%80%93 Verein zur F%C3%B6rderung von Musik":MAILTO:info@beatboxx.at
END:VEVENT
BEGIN:VEVENT
DTSTART;TZID=Europe/Berlin:20250528T193000
DTEND;TZID=Europe/Berlin:20250528T233000
DTSTAMP:20260424T133329
CREATED:20250328T170858Z
LAST-MODIFIED:20250328T170900Z
UID:10000273-1748460600-1748475000@market.beatboxx.at
SUMMARY:Beatboxx-Stammtisch | 28.05.25
DESCRIPTION:Die Beatboxx lädt ein zum Stammtisch! Gespräche über Gott und die Welt\, aber natürlich insbesondere über die Welt der Musik.  \n\n\n\nUm den Bedarf an Getränken und Snacks besser abschätzen zu können\, bitten wir um eine Anmeldung.
URL:https://market.beatboxx.at/event/beatboxx-stammtisch-28-05-25/
END:VEVENT
END:VCALENDAR