BEGIN:VCALENDAR
VERSION:2.0
PRODID:-//Beatboxx.at Market - ECPv6.15.11//NONSGML v1.0//EN
CALSCALE:GREGORIAN
METHOD:PUBLISH
X-WR-CALNAME:Beatboxx.at Market
X-ORIGINAL-URL:https://market.beatboxx.at
X-WR-CALDESC:Veranstaltungen für Beatboxx.at Market
REFRESH-INTERVAL;VALUE=DURATION:PT1H
X-Robots-Tag:noindex
X-PUBLISHED-TTL:PT1H
BEGIN:VTIMEZONE
TZID:Europe/Berlin
BEGIN:DAYLIGHT
TZOFFSETFROM:+0100
TZOFFSETTO:+0200
TZNAME:CEST
DTSTART:20240331T010000
END:DAYLIGHT
BEGIN:STANDARD
TZOFFSETFROM:+0200
TZOFFSETTO:+0100
TZNAME:CET
DTSTART:20241027T010000
END:STANDARD
BEGIN:DAYLIGHT
TZOFFSETFROM:+0100
TZOFFSETTO:+0200
TZNAME:CEST
DTSTART:20250330T010000
END:DAYLIGHT
BEGIN:STANDARD
TZOFFSETFROM:+0200
TZOFFSETTO:+0100
TZNAME:CET
DTSTART:20251026T010000
END:STANDARD
BEGIN:DAYLIGHT
TZOFFSETFROM:+0100
TZOFFSETTO:+0200
TZNAME:CEST
DTSTART:20260329T010000
END:DAYLIGHT
BEGIN:STANDARD
TZOFFSETFROM:+0200
TZOFFSETTO:+0100
TZNAME:CET
DTSTART:20261025T010000
END:STANDARD
END:VTIMEZONE
BEGIN:VEVENT
DTSTART;TZID=Europe/Berlin:20250630T090000
DTEND;TZID=Europe/Berlin:20250703T160000
DTSTAMP:20260420T225822
CREATED:20241129T151819Z
LAST-MODIFIED:20250515T164931Z
UID:10000220-1751274000-1751558400@market.beatboxx.at
SUMMARY:Drummer Camp Wien 30.06.-03.07.2025
DESCRIPTION:Drummer Camp | Das lauteste Camp der Stadt\n\n\n\n \n\n\n\n \n\n\n\n\n\n\n\n\n\n\n\n\n\n\n\n\n\n\n\n\n\n\n\n\n\n\n\n\n\n\n\n\n\n\n\n\n\n                \n                        \n                            Sign-Up Warteliste\n                            Kein Ticket mehr verfügbar? Wir setzen dich gerne auf unsere Warteliste und melden uns\, wenn doch genug Platz sein sollte! \n                        \n                        Name(erforderlich) E-mail Adresse(erforderlich) Gewünschtes Ticket (Event / Altersgruppe)(erforderlich)
URL:https://market.beatboxx.at/event/drummer-camp-wien-30-6-3-7-2025/
CATEGORIES:Drummer Camp
END:VEVENT
BEGIN:VEVENT
DTSTART;TZID=Europe/Berlin:20250702T173000
DTEND;TZID=Europe/Berlin:20250702T190000
DTSTAMP:20260420T225822
CREATED:20250426T130954Z
LAST-MODIFIED:20250426T131323Z
UID:10000276-1751477400-1751482800@market.beatboxx.at
SUMMARY:Drum Tuning | 02.07.25
DESCRIPTION:Schlagzeug stimmen in 5min! Mehr Zeit solltest du nicht brauchen\, um deinen Sound für deine Übungssession zu finden. Für gemeinsam genutzte Schlagzeuge ist diese Fähigkeit besonders wichtig und hilfreich. Übung macht auch hier den Meister – Je öfter du stimmst\, desto schneller wirst du.  \n\n\n\nMindestteilnehmerzahl: 3 Personen  \n\n\n\nKostenbeiträge: 25\,- € externe Teilnehmer | 15\,- € Beatboxx Mitglieder | 0\,- € Beatboxx AYCB Mitglieder\, keine Rückerstattung möglich  \n\n\n\nViel Spaß & viel Erfolg!
URL:https://market.beatboxx.at/event/drum-tuning-02-07-25/
CATEGORIES:Boxxenstopp,Drum Tuning,Workshop
ATTACH;FMTTYPE=image/png:https://market.beatboxx.at/wp-content/uploads/sites/2/2023/08/Yamaha-Tour-Custom-Candy-Apple-22-10-12-16.png
END:VEVENT
BEGIN:VEVENT
DTSTART;TZID=Europe/Berlin:20250703T190000
DTEND;TZID=Europe/Berlin:20250703T230000
DTSTAMP:20260420T225822
CREATED:20250611T220457Z
LAST-MODIFIED:20250611T221052Z
UID:10000278-1751569200-1751583600@market.beatboxx.at
SUMMARY:Beatboxx SOMMERFEST & ROCK-JAMSESSION SUMMER EDITION | 03.07.25 (feat. "Kutscher’s Blues Band")
DESCRIPTION:Das Beatboxx Sommerfest 2025 und die Rock-Jamsession Summer Edition vereinen sich zu einem gemeinsamen Event!  \n\n\n\nDas alljährliche Beatboxx Drummer Camp (Woche 1) findet dieses Jahr seinen krönenden Abschluss im ((szene)) Soundgarden und zwar gemeinsam mit der legendären Rock-Jamsession von „Kutscher’s Blues Band“.Jeder kann einsteigen – pack dein Instrument oder deine Stimme ein und mach mit! Session-Einsteiger werden von „Kutscher’s Blues Band“ durch die Nummern geführt. \n\n\n\nBei Schlechtwetter findet die Show im Saal statt. \n\n\n\nDer Besuch bzw. die Teilnahme an der Session ist kostenlos (freiwillige Spende vor Ort). Wir bitten Interessierte aber um eine Anmeldung.  \n\n\n\n\n\nHier noch ein kleiner Auszug aus der bereits vorhandenen Songliste: \n\n\n\n\nThe Joker\n\n\n\nLittle Wing \n\n\n\nWicked Game \n\n\n\nSeven Nation Army\n\n\n\nKnockin on Heavens Door\n\n\n\nCome Together\n\n\n\nLonely Boy (von den Black Keys)\n\n\n\nCocaine\n\n\n\nFly Away \n\n\n\nHey Joe\n\n\n\nLearn to Fly\n\n\n\nWalking by Myself\n\n\n\nGoing Down\n\n\n\nWild Thing \n\n\n\nFooled Around and Fell in Love (von den Winery Dogs)\n\n\n\nFree Falling\n\n\n\nSunshine Of Your Love\n\n\n\nRed House \n\n\n\nZombie \n\n\n\nCreep\n\n\n\nBasket Case\n\n\n\n…
URL:https://market.beatboxx.at/event/beatboxx-sommerfest-rock-jamsession-summer-edition-03-07-25-feat-kutschers-blues-band/
LOCATION:Szene Wien\, Hauffgasse 26\, Wien\, 1110\, Österreich
END:VEVENT
BEGIN:VEVENT
DTSTART;TZID=Europe/Berlin:20250707T090000
DTEND;TZID=Europe/Berlin:20250710T160000
DTSTAMP:20260420T225822
CREATED:20241205T073641Z
LAST-MODIFIED:20250515T183649Z
UID:10000221-1751878800-1752163200@market.beatboxx.at
SUMMARY:Drummer Camp Wien 07.07.-10.07.2025
DESCRIPTION:Drummer Camp | Das lauteste Camp der Stadt\n\n\n\n \n\n\n\n \n\n\n\n\n\n\n\n\n\n\n\n\n\n\n\n\n\n\n\n\n\n\n\n\n\n\n\n\n\n\n\n\n\n\n\n\n\n                \n                        \n                            Sign-Up Warteliste\n                            Kein Ticket mehr verfügbar? Wir setzen dich gerne auf unsere Warteliste und melden uns\, wenn doch genug Platz sein sollte! \n                        \n                        Name(erforderlich) E-mail Adresse(erforderlich) Gewünschtes Ticket (Event / Altersgruppe)(erforderlich)
URL:https://market.beatboxx.at/event/drummer-camp-wien-07-07-10-07-2025/
CATEGORIES:Drummer Camp
END:VEVENT
END:VCALENDAR